BEGIN:VCALENDAR
VERSION:2.0
PRODID:-//Orange County Escrow Association - ECPv6.15.20//NONSGML v1.0//EN
CALSCALE:GREGORIAN
METHOD:PUBLISH
X-WR-CALNAME:Orange County Escrow Association
X-ORIGINAL-URL:https://www.o-c-e-a.org
X-WR-CALDESC:Events for Orange County Escrow Association
REFRESH-INTERVAL;VALUE=DURATION:PT1H
X-Robots-Tag:noindex
X-PUBLISHED-TTL:PT1H
BEGIN:VTIMEZONE
TZID:UTC
BEGIN:STANDARD
TZOFFSETFROM:+0000
TZOFFSETTO:+0000
TZNAME:UTC
DTSTART:20230101T000000
END:STANDARD
END:VTIMEZONE
BEGIN:VEVENT
DTSTART;VALUE=DATE:20251119
DTEND;VALUE=DATE:20251120
DTSTAMP:20260420T034813
CREATED:20250114T210159Z
LAST-MODIFIED:20250114T210159Z
UID:1321-1763510400-1763596799@www.o-c-e-a.org
SUMMARY:GENERAL MEMBERSHIP MEETING
DESCRIPTION:
URL:https://www.o-c-e-a.org/event/general-membership-meeting-3/
END:VEVENT
BEGIN:VEVENT
DTSTART;VALUE=DATE:20251112
DTEND;VALUE=DATE:20251113
DTSTAMP:20260420T034813
CREATED:20250114T211143Z
LAST-MODIFIED:20250114T211143Z
UID:1340-1762905600-1762991999@www.o-c-e-a.org
SUMMARY:OCEA Board of Directors Meeting
DESCRIPTION:
URL:https://www.o-c-e-a.org/event/ocea-board-of-directors-meeting-22/
END:VEVENT
BEGIN:VEVENT
DTSTART;VALUE=DATE:20251108
DTEND;VALUE=DATE:20251109
DTSTAMP:20260420T034813
CREATED:20250114T211541Z
LAST-MODIFIED:20250114T211541Z
UID:1348-1762560000-1762646399@www.o-c-e-a.org
SUMMARY:2026 Planning Meeting
DESCRIPTION:
URL:https://www.o-c-e-a.org/event/2026-planning-meeting/
END:VEVENT
BEGIN:VEVENT
DTSTART;VALUE=DATE:20251024
DTEND;VALUE=DATE:20251026
DTSTAMP:20260420T034813
CREATED:20250115T170043Z
LAST-MODIFIED:20250115T170043Z
UID:1357-1761264000-1761436799@www.o-c-e-a.org
SUMMARY:CEA Conference\, Hyatt - Irvine
DESCRIPTION:
URL:https://www.o-c-e-a.org/event/cea-conference-hyatt-irvine/
END:VEVENT
BEGIN:VEVENT
DTSTART;VALUE=DATE:20251008
DTEND;VALUE=DATE:20251009
DTSTAMP:20260420T034813
CREATED:20250114T211056Z
LAST-MODIFIED:20250114T211056Z
UID:1341-1759881600-1759967999@www.o-c-e-a.org
SUMMARY:OCEA Board of Directors Meeting
DESCRIPTION:
URL:https://www.o-c-e-a.org/event/ocea-board-of-directors-meeting-21/
END:VEVENT
BEGIN:VEVENT
DTSTART;VALUE=DATE:20251001
DTEND;VALUE=DATE:20251002
DTSTAMP:20260420T034813
CREATED:20250114T211512Z
LAST-MODIFIED:20250114T211512Z
UID:1349-1759276800-1759363199@www.o-c-e-a.org
SUMMARY:CEA Conference - Date TBD
DESCRIPTION:
URL:https://www.o-c-e-a.org/event/cea-conference-date-tbd/
END:VEVENT
BEGIN:VEVENT
DTSTART;VALUE=DATE:20250917
DTEND;VALUE=DATE:20250918
DTSTAMP:20260420T034813
CREATED:20250114T210216Z
LAST-MODIFIED:20250114T210216Z
UID:1320-1758067200-1758153599@www.o-c-e-a.org
SUMMARY:GENERAL MEMBERSHIP MEETING
DESCRIPTION:
URL:https://www.o-c-e-a.org/event/general-membership-meeting-4/
END:VEVENT
BEGIN:VEVENT
DTSTART;VALUE=DATE:20250910
DTEND;VALUE=DATE:20250911
DTSTAMP:20260420T034813
CREATED:20250114T211034Z
LAST-MODIFIED:20250114T211034Z
UID:1342-1757462400-1757548799@www.o-c-e-a.org
SUMMARY:OCEA Board of Directors Meeting
DESCRIPTION:
URL:https://www.o-c-e-a.org/event/ocea-board-of-directors-meeting-20/
END:VEVENT
BEGIN:VEVENT
DTSTART;VALUE=DATE:20250813
DTEND;VALUE=DATE:20250814
DTSTAMP:20260420T034813
CREATED:20250114T210925Z
LAST-MODIFIED:20250114T210925Z
UID:1343-1755043200-1755129599@www.o-c-e-a.org
SUMMARY:OCEA Board of Directors Meeting
DESCRIPTION:
URL:https://www.o-c-e-a.org/event/ocea-board-of-directors-meeting-19/
END:VEVENT
BEGIN:VEVENT
DTSTART;VALUE=DATE:20250716
DTEND;VALUE=DATE:20250717
DTSTAMP:20260420T034813
CREATED:20250114T210234Z
LAST-MODIFIED:20250114T210234Z
UID:1319-1752624000-1752710399@www.o-c-e-a.org
SUMMARY:GENERAL MEMBERSHIP MEETING
DESCRIPTION:
URL:https://www.o-c-e-a.org/event/general-membership-meeting-5/
END:VEVENT
BEGIN:VEVENT
DTSTART;VALUE=DATE:20250709
DTEND;VALUE=DATE:20250710
DTSTAMP:20260420T034813
CREATED:20250114T210643Z
LAST-MODIFIED:20250114T210643Z
UID:1325-1752019200-1752105599@www.o-c-e-a.org
SUMMARY:OCEA Board of Directors Meeting
DESCRIPTION:
URL:https://www.o-c-e-a.org/event/ocea-board-of-directors-meeting-18/
END:VEVENT
BEGIN:VEVENT
DTSTART;VALUE=DATE:20250611
DTEND;VALUE=DATE:20250612
DTSTAMP:20260420T034813
CREATED:20250114T210629Z
LAST-MODIFIED:20250114T210629Z
UID:1326-1749600000-1749686399@www.o-c-e-a.org
SUMMARY:OCEA Board of Directors Meeting
DESCRIPTION:
URL:https://www.o-c-e-a.org/event/ocea-board-of-directors-meeting-17/
END:VEVENT
BEGIN:VEVENT
DTSTART;VALUE=DATE:20250606
DTEND;VALUE=DATE:20250609
DTSTAMP:20260420T034813
CREATED:20250114T211429Z
LAST-MODIFIED:20250114T211429Z
UID:1350-1749168000-1749427199@www.o-c-e-a.org
SUMMARY:AEA Conference\,  Las Vegas
DESCRIPTION:
URL:https://www.o-c-e-a.org/event/aea-conference-las-vegas-2/
END:VEVENT
BEGIN:VEVENT
DTSTART;VALUE=DATE:20250530
DTEND;VALUE=DATE:20250602
DTSTAMP:20260420T034813
CREATED:20250114T211353Z
LAST-MODIFIED:20250114T211353Z
UID:1351-1748563200-1748822399@www.o-c-e-a.org
SUMMARY:EIC Conference\, Dana Point
DESCRIPTION:
URL:https://www.o-c-e-a.org/event/eic-conference-dana-point/
END:VEVENT
BEGIN:VEVENT
DTSTART;VALUE=DATE:20250514
DTEND;VALUE=DATE:20250515
DTSTAMP:20260420T034813
CREATED:20250114T210617Z
LAST-MODIFIED:20250114T210617Z
UID:1327-1747180800-1747267199@www.o-c-e-a.org
SUMMARY:OCEA Board of Directors Meeting
DESCRIPTION:
URL:https://www.o-c-e-a.org/event/ocea-board-of-directors-meeting-16/
END:VEVENT
BEGIN:VEVENT
DTSTART;VALUE=DATE:20250416
DTEND;VALUE=DATE:20250417
DTSTAMP:20260420T034813
CREATED:20250114T210550Z
LAST-MODIFIED:20250114T210550Z
UID:1328-1744761600-1744847999@www.o-c-e-a.org
SUMMARY:OCEA Board of Directors Meeting
DESCRIPTION:
URL:https://www.o-c-e-a.org/event/ocea-board-of-directors-meeting-15/
END:VEVENT
BEGIN:VEVENT
DTSTART;VALUE=DATE:20250416
DTEND;VALUE=DATE:20250417
DTSTAMP:20260420T034813
CREATED:20250114T210112Z
LAST-MODIFIED:20250114T210112Z
UID:1317-1744761600-1744847999@www.o-c-e-a.org
SUMMARY:GENERAL MEMBERSHIP MEETING
DESCRIPTION:
URL:https://www.o-c-e-a.org/event/general-membership-meeting-2/
END:VEVENT
BEGIN:VEVENT
DTSTART;VALUE=DATE:20250312
DTEND;VALUE=DATE:20250313
DTSTAMP:20260420T034813
CREATED:20250114T210538Z
LAST-MODIFIED:20250114T210538Z
UID:1329-1741737600-1741823999@www.o-c-e-a.org
SUMMARY:OCEA Board of Directors Meeting
DESCRIPTION:
URL:https://www.o-c-e-a.org/event/ocea-board-of-directors-meeting-14/
END:VEVENT
BEGIN:VEVENT
DTSTART;VALUE=DATE:20250219
DTEND;VALUE=DATE:20250220
DTSTAMP:20260420T034813
CREATED:20250114T205939Z
LAST-MODIFIED:20250114T210010Z
UID:1315-1739923200-1740009599@www.o-c-e-a.org
SUMMARY:GENERAL MEMBERSHIP MEETING
DESCRIPTION:
URL:https://www.o-c-e-a.org/event/general-membership-meeting/
END:VEVENT
BEGIN:VEVENT
DTSTART;VALUE=DATE:20250212
DTEND;VALUE=DATE:20250213
DTSTAMP:20260420T034813
CREATED:20250114T210531Z
LAST-MODIFIED:20250114T210531Z
UID:1330-1739318400-1739404799@www.o-c-e-a.org
SUMMARY:OCEA Board of Directors Meeting
DESCRIPTION:
URL:https://www.o-c-e-a.org/event/ocea-board-of-directors-meeting-13/
END:VEVENT
BEGIN:VEVENT
DTSTART;VALUE=DATE:20250108
DTEND;VALUE=DATE:20250109
DTSTAMP:20260420T034813
CREATED:20250114T210448Z
LAST-MODIFIED:20250114T210448Z
UID:1331-1736294400-1736380799@www.o-c-e-a.org
SUMMARY:OCEA Board of Directors Meeting
DESCRIPTION:
URL:https://www.o-c-e-a.org/event/ocea-board-of-directors-meeting-12/
END:VEVENT
BEGIN:VEVENT
DTSTART;VALUE=DATE:20250101
DTEND;VALUE=DATE:20250102
DTSTAMP:20260420T034813
CREATED:20240123T185525Z
LAST-MODIFIED:20240123T185525Z
UID:1083-1735689600-1735775999@www.o-c-e-a.org
SUMMARY:New Year’s Day
DESCRIPTION:
URL:https://www.o-c-e-a.org/event/new-years-day/
END:VEVENT
BEGIN:VEVENT
DTSTART;VALUE=DATE:20241225
DTEND;VALUE=DATE:20241226
DTSTAMP:20260420T034813
CREATED:20240116T225617Z
LAST-MODIFIED:20240116T225617Z
UID:1014-1735084800-1735171199@www.o-c-e-a.org
SUMMARY:Christmas Day
DESCRIPTION:
URL:https://www.o-c-e-a.org/event/christmas-day/
END:VEVENT
BEGIN:VEVENT
DTSTART;VALUE=DATE:20241128
DTEND;VALUE=DATE:20241129
DTSTAMP:20260420T034813
CREATED:20240116T225550Z
LAST-MODIFIED:20240116T225550Z
UID:1013-1732752000-1732838399@www.o-c-e-a.org
SUMMARY:Thanksgiving Day
DESCRIPTION:
URL:https://www.o-c-e-a.org/event/thanksgiving-day/
END:VEVENT
BEGIN:VEVENT
DTSTART;VALUE=DATE:20241120
DTEND;VALUE=DATE:20241121
DTSTAMP:20260420T034813
CREATED:20240112T204503Z
LAST-MODIFIED:20240123T184924Z
UID:952-1732060800-1732147199@www.o-c-e-a.org
SUMMARY:OCEA General Membership Meeting
DESCRIPTION:
URL:https://www.o-c-e-a.org/event/ocea-general-membership-meetings-5/
END:VEVENT
BEGIN:VEVENT
DTSTART;VALUE=DATE:20241116
DTEND;VALUE=DATE:20241117
DTSTAMP:20260420T034813
CREATED:20240112T210023Z
LAST-MODIFIED:20240123T184917Z
UID:988-1731715200-1731801599@www.o-c-e-a.org
SUMMARY:CEA BOD Directors’ Meeting
DESCRIPTION:Virtual via Zoom
URL:https://www.o-c-e-a.org/event/cea-bod-directors-meetings-4/
END:VEVENT
BEGIN:VEVENT
DTSTART;VALUE=DATE:20241113
DTEND;VALUE=DATE:20241114
DTSTAMP:20260420T034813
CREATED:20240112T205142Z
LAST-MODIFIED:20240112T205142Z
UID:968-1731456000-1731542399@www.o-c-e-a.org
SUMMARY:OCEA Board of Directors Meeting
DESCRIPTION:
URL:https://www.o-c-e-a.org/event/ocea-board-of-directors-meeting-11/
END:VEVENT
BEGIN:VEVENT
DTSTART;VALUE=DATE:20241111
DTEND;VALUE=DATE:20241112
DTSTAMP:20260420T034813
CREATED:20240116T225509Z
LAST-MODIFIED:20240116T225509Z
UID:1012-1731283200-1731369599@www.o-c-e-a.org
SUMMARY:Veterans Day
DESCRIPTION:
URL:https://www.o-c-e-a.org/event/veterans-day/
END:VEVENT
BEGIN:VEVENT
DTSTART;VALUE=DATE:20241109
DTEND;VALUE=DATE:20241110
DTSTAMP:20260420T034813
CREATED:20240112T205231Z
LAST-MODIFIED:20240112T205231Z
UID:980-1731110400-1731196799@www.o-c-e-a.org
SUMMARY:2025 OCEA Planning Meeting
DESCRIPTION:
URL:https://www.o-c-e-a.org/event/2025-ocea-planning-meeting/
END:VEVENT
BEGIN:VEVENT
DTSTART;VALUE=DATE:20241017
DTEND;VALUE=DATE:20241020
DTSTAMP:20260420T034813
CREATED:20240112T210317Z
LAST-MODIFIED:20240123T185443Z
UID:995-1729123200-1729382399@www.o-c-e-a.org
SUMMARY:69th CEA Annual Educational Conference
DESCRIPTION:Hilton Anaheim
URL:https://www.o-c-e-a.org/event/69th-cea-annual-educational-conference/
END:VEVENT
END:VCALENDAR