BEGIN:VCALENDAR
VERSION:2.0
PRODID:-//Orange County Escrow Association - ECPv6.15.20//NONSGML v1.0//EN
CALSCALE:GREGORIAN
METHOD:PUBLISH
X-ORIGINAL-URL:https://www.o-c-e-a.org
X-WR-CALDESC:Events for Orange County Escrow Association
REFRESH-INTERVAL;VALUE=DURATION:PT1H
X-Robots-Tag:noindex
X-PUBLISHED-TTL:PT1H
BEGIN:VTIMEZONE
TZID:UTC
BEGIN:STANDARD
TZOFFSETFROM:+0000
TZOFFSETTO:+0000
TZNAME:UTC
DTSTART:20220101T000000
END:STANDARD
END:VTIMEZONE
BEGIN:VEVENT
DTSTART;VALUE=DATE:20240803
DTEND;VALUE=DATE:20240804
DTSTAMP:20260420T080057
CREATED:20240112T210000Z
LAST-MODIFIED:20240123T184842Z
UID:987-1722643200-1722729599@www.o-c-e-a.org
SUMMARY:CEA BOD Directors’ Meeting
DESCRIPTION:Hilton Orange County
URL:https://www.o-c-e-a.org/event/cea-bod-directors-meetings-3/
END:VEVENT
BEGIN:VEVENT
DTSTART;VALUE=DATE:20240717
DTEND;VALUE=DATE:20240718
DTSTAMP:20260420T080057
CREATED:20240112T204411Z
LAST-MODIFIED:20240612T143834Z
UID:951-1721174400-1721260799@www.o-c-e-a.org
SUMMARY:OCEA General Membership Meeting
DESCRIPTION:Click here for more details!
URL:https://www.o-c-e-a.org/event/ocea-general-membership-meetings-3/
END:VEVENT
BEGIN:VEVENT
DTSTART;VALUE=DATE:20240710
DTEND;VALUE=DATE:20240711
DTSTAMP:20260420T080057
CREATED:20240112T205026Z
LAST-MODIFIED:20240112T205026Z
UID:964-1720569600-1720655999@www.o-c-e-a.org
SUMMARY:OCEA Board of Directors Meeting
DESCRIPTION:
URL:https://www.o-c-e-a.org/event/ocea-board-of-directors-meeting-7/
END:VEVENT
BEGIN:VEVENT
DTSTART;VALUE=DATE:20240704
DTEND;VALUE=DATE:20240705
DTSTAMP:20260420T080057
CREATED:20240116T225246Z
LAST-MODIFIED:20240116T225246Z
UID:1006-1720051200-1720137599@www.o-c-e-a.org
SUMMARY:Independence Day
DESCRIPTION:
URL:https://www.o-c-e-a.org/event/independence-day/
END:VEVENT
BEGIN:VEVENT
DTSTART;VALUE=DATE:20240619
DTEND;VALUE=DATE:20240620
DTSTAMP:20260420T080057
CREATED:20240116T225208Z
LAST-MODIFIED:20240116T225208Z
UID:1004-1718755200-1718841599@www.o-c-e-a.org
SUMMARY:Juneteenth National Independence Day
DESCRIPTION:
URL:https://www.o-c-e-a.org/event/juneteenth-national-independence-day/
END:VEVENT
BEGIN:VEVENT
DTSTART;VALUE=DATE:20240612
DTEND;VALUE=DATE:20240613
DTSTAMP:20260420T080057
CREATED:20240112T204935Z
LAST-MODIFIED:20240112T204935Z
UID:966-1718150400-1718236799@www.o-c-e-a.org
SUMMARY:OCEA Board of Directors Meeting
DESCRIPTION:
URL:https://www.o-c-e-a.org/event/ocea-board-of-directors-meeting-6/
END:VEVENT
BEGIN:VEVENT
DTSTART;VALUE=DATE:20240527
DTEND;VALUE=DATE:20240528
DTSTAMP:20260420T080057
CREATED:20240116T225100Z
LAST-MODIFIED:20240116T225100Z
UID:1002-1716768000-1716854399@www.o-c-e-a.org
SUMMARY:Memorial Day
DESCRIPTION:
URL:https://www.o-c-e-a.org/event/memorial-day/
END:VEVENT
BEGIN:VEVENT
DTSTART;VALUE=DATE:20240517
DTEND;VALUE=DATE:20240520
DTSTAMP:20260420T080057
CREATED:20240112T204103Z
LAST-MODIFIED:20240123T185259Z
UID:944-1715904000-1716163199@www.o-c-e-a.org
SUMMARY:Escrow Institute of California Conference
DESCRIPTION:San Diego Mission Bay Resort
URL:https://www.o-c-e-a.org/event/escrow-institute-of-california-conference/
END:VEVENT
BEGIN:VEVENT
DTSTART;VALUE=DATE:20240508
DTEND;VALUE=DATE:20240509
DTSTAMP:20260420T080057
CREATED:20240112T204908Z
LAST-MODIFIED:20240112T204908Z
UID:962-1715126400-1715212799@www.o-c-e-a.org
SUMMARY:OCEA Board of Directors Meeting
DESCRIPTION:
URL:https://www.o-c-e-a.org/event/ocea-board-of-directors-meeting-5/
END:VEVENT
BEGIN:VEVENT
DTSTART;VALUE=DATE:20240503
DTEND;VALUE=DATE:20240506
DTSTAMP:20260420T080057
CREATED:20240112T210407Z
LAST-MODIFIED:20240123T185209Z
UID:997-1714694400-1714953599@www.o-c-e-a.org
SUMMARY:AEA Conference
DESCRIPTION:Palace Station Las Vegas NV
URL:https://www.o-c-e-a.org/event/aea-conference/
END:VEVENT
BEGIN:VEVENT
DTSTART;VALUE=DATE:20240421
DTEND;VALUE=DATE:20240424
DTSTAMP:20260420T080057
CREATED:20240112T204149Z
LAST-MODIFIED:20240112T204149Z
UID:946-1713657600-1713916799@www.o-c-e-a.org
SUMMARY:CLTA 117th Annual Convention
DESCRIPTION:
URL:https://www.o-c-e-a.org/event/clta-117th-annual-convention/
END:VEVENT
BEGIN:VEVENT
DTSTART;VALUE=DATE:20240417
DTEND;VALUE=DATE:20240418
DTSTAMP:20260420T080057
CREATED:20240112T204353Z
LAST-MODIFIED:20240123T184834Z
UID:949-1713312000-1713398399@www.o-c-e-a.org
SUMMARY:OCEA General Membership Meeting
DESCRIPTION:
URL:https://www.o-c-e-a.org/event/ocea-general-membership-meetings-2/
END:VEVENT
BEGIN:VEVENT
DTSTART;VALUE=DATE:20240413
DTEND;VALUE=DATE:20240414
DTSTAMP:20260420T080057
CREATED:20240112T210204Z
LAST-MODIFIED:20240123T184826Z
UID:993-1712966400-1713052799@www.o-c-e-a.org
SUMMARY:CEA BOD Directors’ Meeting
DESCRIPTION:Hilton Orange County
URL:https://www.o-c-e-a.org/event/cea-bod-directors-meetings-5/
END:VEVENT
BEGIN:VEVENT
DTSTART;VALUE=DATE:20240410
DTEND;VALUE=DATE:20240411
DTSTAMP:20260420T080057
CREATED:20240112T204842Z
LAST-MODIFIED:20240112T204842Z
UID:961-1712707200-1712793599@www.o-c-e-a.org
SUMMARY:OCEA Board of Directors Meeting
DESCRIPTION:
URL:https://www.o-c-e-a.org/event/ocea-board-of-directors-meeting-4/
END:VEVENT
BEGIN:VEVENT
DTSTART;VALUE=DATE:20240401
DTEND;VALUE=DATE:20240402
DTSTAMP:20260420T080057
CREATED:20240123T185138Z
LAST-MODIFIED:20240123T185138Z
UID:1076-1711929600-1712015999@www.o-c-e-a.org
SUMMARY:Cesar Chavez Day
DESCRIPTION:
URL:https://www.o-c-e-a.org/event/cesar-chavez-day/
END:VEVENT
BEGIN:VEVENT
DTSTART;VALUE=DATE:20240313
DTEND;VALUE=DATE:20240314
DTSTAMP:20260420T080057
CREATED:20240112T204749Z
LAST-MODIFIED:20240112T204749Z
UID:960-1710288000-1710374399@www.o-c-e-a.org
SUMMARY:OCEA Board of Directors Meeting
DESCRIPTION:
URL:https://www.o-c-e-a.org/event/ocea-board-of-directors-meeting-3/
END:VEVENT
BEGIN:VEVENT
DTSTART;VALUE=DATE:20240221
DTEND;VALUE=DATE:20240222
DTSTAMP:20260420T080057
CREATED:20240112T204328Z
LAST-MODIFIED:20240127T015353Z
UID:948-1708473600-1708559999@www.o-c-e-a.org
SUMMARY:OCEA General Membership Meeting
DESCRIPTION:Click here for more information! \nClick here to buy tickets!
URL:https://www.o-c-e-a.org/event/ocea-general-membership-meetings/
END:VEVENT
BEGIN:VEVENT
DTSTART;VALUE=DATE:20240219
DTEND;VALUE=DATE:20240220
DTSTAMP:20260420T080057
CREATED:20240116T225018Z
LAST-MODIFIED:20240116T225018Z
UID:1000-1708300800-1708387199@www.o-c-e-a.org
SUMMARY:Presidents' Day
DESCRIPTION:
URL:https://www.o-c-e-a.org/event/presidents-day/
END:VEVENT
BEGIN:VEVENT
DTSTART;VALUE=DATE:20240207
DTEND;VALUE=DATE:20240208
DTSTAMP:20260420T080057
CREATED:20240112T204735Z
LAST-MODIFIED:20240123T185032Z
UID:959-1707264000-1707350399@www.o-c-e-a.org
SUMMARY:OCEA Board of Directors Meeting
DESCRIPTION:
URL:https://www.o-c-e-a.org/event/ocea-board-of-directors-meeting-2/
END:VEVENT
BEGIN:VEVENT
DTSTART;VALUE=DATE:20240127
DTEND;VALUE=DATE:20240128
DTSTAMP:20260420T080057
CREATED:20240112T205339Z
LAST-MODIFIED:20240123T184745Z
UID:982-1706313600-1706399999@www.o-c-e-a.org
SUMMARY:CEA BOD Directors’ Meeting
DESCRIPTION:Hilton Orange County
URL:https://www.o-c-e-a.org/event/cea-bod-directors-meetings/
END:VEVENT
BEGIN:VEVENT
DTSTART;VALUE=DATE:20240110
DTEND;VALUE=DATE:20240111
DTSTAMP:20260420T080057
CREATED:20240112T204720Z
LAST-MODIFIED:20240112T204720Z
UID:958-1704844800-1704931199@www.o-c-e-a.org
SUMMARY:OCEA Board of Directors Meeting
DESCRIPTION:
URL:https://www.o-c-e-a.org/event/ocea-board-of-directors-meeting/
END:VEVENT
BEGIN:VEVENT
DTSTART;VALUE=DATE:20231115
DTEND;VALUE=DATE:20231116
DTSTAMP:20260420T080057
CREATED:20230213T034329Z
LAST-MODIFIED:20230213T034329Z
UID:482-1700006400-1700092799@www.o-c-e-a.org
SUMMARY:OCEA Virtual General Membership Meeting
DESCRIPTION:
URL:https://www.o-c-e-a.org/event/ocea-virtual-general-membership-meeting-4/
END:VEVENT
BEGIN:VEVENT
DTSTART;VALUE=DATE:20231108
DTEND;VALUE=DATE:20231109
DTSTAMP:20260420T080057
CREATED:20230213T034253Z
LAST-MODIFIED:20230213T034253Z
UID:480-1699401600-1699487999@www.o-c-e-a.org
SUMMARY:OCEA BOD Meeting
DESCRIPTION:
URL:https://www.o-c-e-a.org/event/ocea-bod-meeting-8/
END:VEVENT
BEGIN:VEVENT
DTSTART;VALUE=DATE:20231104
DTEND;VALUE=DATE:20231105
DTSTAMP:20260420T080057
CREATED:20230213T034212Z
LAST-MODIFIED:20230213T034212Z
UID:478-1699056000-1699142399@www.o-c-e-a.org
SUMMARY:OCEA BOD 2024 Planning Meeting
DESCRIPTION:
URL:https://www.o-c-e-a.org/event/ocea-bod-2024-planning-meeting/
END:VEVENT
BEGIN:VEVENT
DTSTART;VALUE=DATE:20231013
DTEND;VALUE=DATE:20231015
DTSTAMP:20260420T080057
CREATED:20230213T034004Z
LAST-MODIFIED:20230213T034004Z
UID:476-1697155200-1697327999@www.o-c-e-a.org
SUMMARY:CEA Conference Anaheim CA Hilton
DESCRIPTION:
URL:https://www.o-c-e-a.org/event/cea-conference-anaheim-ca-hilton/
END:VEVENT
BEGIN:VEVENT
DTSTART;VALUE=DATE:20231011
DTEND;VALUE=DATE:20231012
DTSTAMP:20260420T080057
CREATED:20230213T033918Z
LAST-MODIFIED:20230213T033918Z
UID:474-1696982400-1697068799@www.o-c-e-a.org
SUMMARY:OCEA BOD Meeting
DESCRIPTION:
URL:https://www.o-c-e-a.org/event/ocea-bod-meeting-7/
END:VEVENT
BEGIN:VEVENT
DTSTART;VALUE=DATE:20230920
DTEND;VALUE=DATE:20230921
DTSTAMP:20260420T080057
CREATED:20230213T033310Z
LAST-MODIFIED:20230213T033310Z
UID:472-1695168000-1695254399@www.o-c-e-a.org
SUMMARY:OCEA Virtual General Membership Meeting
DESCRIPTION:
URL:https://www.o-c-e-a.org/event/ocea-virtual-general-membership-meeting-3/
END:VEVENT
BEGIN:VEVENT
DTSTART;VALUE=DATE:20230913
DTEND;VALUE=DATE:20230914
DTSTAMP:20260420T080057
CREATED:20230213T032946Z
LAST-MODIFIED:20230213T032946Z
UID:470-1694563200-1694649599@www.o-c-e-a.org
SUMMARY:OCEA BOD Meeting
DESCRIPTION:
URL:https://www.o-c-e-a.org/event/ocea-bod-meeting-6/
END:VEVENT
BEGIN:VEVENT
DTSTART;VALUE=DATE:20230811
DTEND;VALUE=DATE:20230813
DTSTAMP:20260420T080057
CREATED:20230213T032855Z
LAST-MODIFIED:20230213T032855Z
UID:468-1691712000-1691884799@www.o-c-e-a.org
SUMMARY:CEA BOD Meeting Costa Mesa Hilton
DESCRIPTION:
URL:https://www.o-c-e-a.org/event/cea-bod-meeting-costa-mesa-hilton/
END:VEVENT
BEGIN:VEVENT
DTSTART;TZID=UTC:20230809T080000
DTEND;TZID=UTC:20230809T170000
DTSTAMP:20260420T080057
CREATED:20230213T032105Z
LAST-MODIFIED:20230213T032251Z
UID:466-1691568000-1691600400@www.o-c-e-a.org
SUMMARY:OCEA BOD Meeting
DESCRIPTION:
URL:https://www.o-c-e-a.org/event/ocea-bod-meeting-5/
END:VEVENT
END:VCALENDAR