BEGIN:VCALENDAR
VERSION:2.0
PRODID:-//Orange County Escrow Association - ECPv6.15.20//NONSGML v1.0//EN
CALSCALE:GREGORIAN
METHOD:PUBLISH
X-ORIGINAL-URL:https://www.o-c-e-a.org
X-WR-CALDESC:Events for Orange County Escrow Association
REFRESH-INTERVAL;VALUE=DURATION:PT1H
X-Robots-Tag:noindex
X-PUBLISHED-TTL:PT1H
BEGIN:VTIMEZONE
TZID:UTC
BEGIN:STANDARD
TZOFFSETFROM:+0000
TZOFFSETTO:+0000
TZNAME:UTC
DTSTART:20220101T000000
END:STANDARD
END:VTIMEZONE
BEGIN:VEVENT
DTSTART;VALUE=DATE:20230315
DTEND;VALUE=DATE:20230316
DTSTAMP:20260420T115318
CREATED:20230213T030356Z
LAST-MODIFIED:20230213T030356Z
UID:450-1678838400-1678924799@www.o-c-e-a.org
SUMMARY:OCEA Virtual General Membership Meeting
DESCRIPTION:Click for more information.
URL:https://www.o-c-e-a.org/event/ocea-virtual-general-membership-meeting/
END:VEVENT
BEGIN:VEVENT
DTSTART;VALUE=DATE:20230308
DTEND;VALUE=DATE:20230309
DTSTAMP:20260420T115318
CREATED:20230213T025820Z
LAST-MODIFIED:20230213T025820Z
UID:448-1678233600-1678319999@www.o-c-e-a.org
SUMMARY:OCEA BOD Meeting
DESCRIPTION:
URL:https://www.o-c-e-a.org/event/ocea-bod-meeting/
END:VEVENT
END:VCALENDAR